BEGIN:VCALENDAR
VERSION:2.0
PRODID:-//Northwood Auctions - ECPv6.6.4.2//NONSGML v1.0//EN
CALSCALE:GREGORIAN
METHOD:PUBLISH
X-WR-CALNAME:Northwood Auctions
X-ORIGINAL-URL:https://northwoodauctions.com
X-WR-CALDESC:Events for Northwood Auctions
REFRESH-INTERVAL;VALUE=DURATION:PT1H
X-Robots-Tag:noindex
X-PUBLISHED-TTL:PT1H
BEGIN:VTIMEZONE
TZID:UTC
BEGIN:STANDARD
TZOFFSETFROM:+0000
TZOFFSETTO:+0000
TZNAME:UTC
DTSTART:20240101T000000
END:STANDARD
END:VTIMEZONE
BEGIN:VEVENT
DTSTART;TZID=UTC:20240903T180000
DTEND;TZID=UTC:20240903T190000
DTSTAMP:20260424T120048
CREATED:20240819T132527Z
LAST-MODIFIED:20240819T132545Z
UID:19116-1725386400-1725390000@northwoodauctions.com
SUMMARY:Miller Real Estate Auction.
DESCRIPTION:dan_miller_brochure \n                                                                                 Miller Real Estate Auction\n                                                                       Tuesday\, September 3\, 2024 • 6:00 pm\n                                                           Open House: Tuesday\, August 27 · 5:00 – 7:00 pm\n 20.59 Acres • 3 Parcels • Heated Cabin – Stocked Pond • Nice Wooded Building Sites – Good Hunting •  \n              Komatsu 20 A Dozer •  Chattels – Franklin Township • Wayne County • Triway LSD\n                                      Location: The land is beside 7605 Hoy Road Fredericksburg\, Ohio 44627  \nDirections: From Fredericksburg take Fredericksburg Road north to Graber Road\, west to Hoy Road\, north to the land.\n                                                                             REAL ESTATE SELLS FIRST\nHere is a great opportunity to own some nice wooded land with a heated cabin\, a stocked pond\, and a pavillion with a concrete floor in a quiet peaceful setting.\nThe land is rolling and pretty much all wooded and will be offered in 3 parcels.\nThe 14’ x 28’ cabin is very well insulated\, has a 10’ screened porch\, a natural gas cook stove\, and water from the well.\nThere is a 20’ x 40’ open sided pavillion with a cement floor . The pavillion and the cabin are surrounded by a fence. \nThe pond is stocked. The 10’ x 18’ outbuilding has a small shop area\, room for a horse\, and a storage area. A Honda motor\, an air\ncompressor and a 1\,000 gallon air tank connected to the water well sell with the property!\nAn elevated hunting blind and a deer feeder sell with the property too!\nThis property has many Opportunities! Build- Hunt- Fish – Relax- Enjoy Nature!\n                                                                    Dozer & Chattels to sell after the property.\nKomatsu 20 A dozer with a 6 way blade and forks\, Whiskey barrel table and 5 chairs\, log style dresser and night stand\, queen bed\,\nporch glider\, 2 Lifetime picnic tables\, several swings\, 2 hay racks\, 2 grain tubs. \nParcel #1: 5.49 acres with the cabin & pond\nParcel #2: 5.1 wooded acres\nParcel #3: 10 acres all wooded\nTerms A 10% nonrefundable down payment is due at the auction. The balance will be due at closing in approximately 60 days. The buyers will be charged $700 per parcel for survey costs. Announcements at the auction precede previous statements and ads.\nParcel #30-01121.018 \nCAUV Real Estate Taxes: $303.32 per half year \nOwners: Dan A. & Fannie Miller \nAuctioneers/Realtors Orus Mast 330-473-9077 Allen Mast 330-600-0754
URL:https://northwoodauctions.com/auctions/miller-real-estate-auction-23/
LOCATION:Miller Real Estate Auction\, 7605 Hoy Road\, Fredericksburg\, OH\, 44627\, United States
CATEGORIES:Real Estate and Chattel Auctions
END:VEVENT
BEGIN:VEVENT
DTSTART;TZID=UTC:20240905T180000
DTEND;TZID=UTC:20240905T190000
DTSTAMP:20260424T120049
CREATED:20240808T134125Z
LAST-MODIFIED:20240808T134125Z
UID:19066-1725559200-1725562800@northwoodauctions.com
SUMMARY:Miller Real Estate Auction.
DESCRIPTION:james_miller_brochure \n                                                                        Miller Real Estate Auction\n                                                               Thursday\, September 5\, 2024 • 6:00 pm\n                                                    Open House: Monday August 26 · 5:00 – 7:00 pm\n                                                       Location: 1883 T.R. 675 Dundee\, OH 44624\nDirections: From Winesburg take U.S. 62 east to C. R. 186 left to C. R. 200 turn right to T.R. 674 left to T. R. 675 left to the property. \nBeautiful Home • 2 Story Bank Barn 7 Acres • Fenced Pasture Open & Wooded Land • East Holmes Schools Paint Township • Holmes County\n                                                            A Beautiful Home in a Quiet\, Peaceful Setting!\n                                     The Miller Property features a set of buildings in excellent condition\, including:\nThe house\, built in 2014. The main floor was finished in 2018 and features a custom kitchen with a beautiful set of character hickory cabinets\, an island\, a pantry\, and an open area to the living room\, an open stairway\, a sunroom / office & sewing room\, a full bath\, and 2 bedrooms all with solid doors in like-new condition.\nThe walk-out basement has a bright coat of paint and includes a second kitchen\, a bathroom\, a firewood room\, and more. The upstairs is insulated but not finished.\nThe 2-story bank barn has several box stalls and chain link dog kennels for your animals\, plus a lot of storage on the second level.\nA few more things we like are the pasture field with woven wire horse fence\, several wooded acres with a hunting blind and deer feeder\, the solar system with new batteries in 2024\, the wildlife\, birds\, and so much more.\nJoin us at the Open House to view this nice property! \n Terms A 10% nonrefundable down payment is due at the auction. The balance will be due at closing in approximately 45 days. Announcements at the auction precede previous statements and ads.\nReal Estate Taxes: $2503.55 per half year\nOwners: James A. & Marlene M. Miller\nAuctioneers/Realtors Orus Mast 330-473-9077 Allen Mast 330-600-0754 \n                                              \n 
URL:https://northwoodauctions.com/auctions/miller-real-estate-auction-22/
LOCATION:Miller Real Estate Auction\, 1883 T.R. 675\, Dundee\, OH\, 44624\, United States
CATEGORIES:Real Estate Auction
END:VEVENT
BEGIN:VEVENT
DTSTART;TZID=UTC:20240914T090000
DTEND;TZID=UTC:20240914T170000
DTSTAMP:20260424T120049
CREATED:20240821T184808Z
LAST-MODIFIED:20240821T184808Z
UID:19119-1726304400-1726333200@northwoodauctions.com
SUMMARY:46th Annual Alpine Schools  Consignment Benefit Auction.
DESCRIPTION:AlpineSchools_2024_BH_3079 \n                                                  46th Annual Alpine Schools Consignment Benefit Auction.\n                                                                  Friday & Saturday\, Sept. 13 & 14 2024\n                                  Location: 1573 US 62\, Wilmot\, OH 44689\, Between Winesburg and Wilmot on US 62\n                                                                 Friday\, Sept. 13\, Evening Auction • 5:30 p.m.\n                                                                 Saturday\, Sept. 14\, Main Auction • 9:00 a.m.\nThe Alpine Schools Auction is one of the best school auctions in the area\, and this year’s lineup looks to continue the tradition. Bring the family and plan to spend Friday evening or all day Saturday enjoying the food and high-quality selection of items.\nFriday night includes: Johnny & Beachy hunting blinds\, ladder stands\, tree stands\, and a nice selection of brand new sporting goods. We’re expecting a nice variety of new and used hunting and fishing supplies.\nThe school children will sell their items right after the sporting goods on Friday evening!\n                          Whitetail & Elk hunting pictures & stories for the boys & girls by Josh Schlabach\, following the auction.\nCandy Drop Approximately 7:30\nLunch Stand: BBQ chicken\, sausage sandwiches\, French fries\, and homemade ice cream. Bring the family & enjoy the evening!\nBake Sale: Fry pies\, donuts\, cream sticks and cookies\nSaturday Highlights: All Brand New Items! New Hopeview buggy\, pony\, harness & pony cart from Fairview Country Sales\, 52″ Toro mower\, 52″ Snapper mower\, Stihl chain saw\, Stihl trimmer\, Stihl backpack blower\, rebuilt Maytag washing machine\, spinner\, 2 Mr. Cruiser E-bikes\, Aventon E-Bike\, child’s battery bike\, Mity Lite chairs\, 15′ trampoline\, 4 skids Eco Bricks\, Lifetime tables\, 12V batteries\, new storage barn from Alpine Structures\, 8′ x 12′ A-Frame Ananias Storage barn with 6′ side\nwalls\, 2 buggy harnesses\, 2200 watt Honda inverter generator\, 2 bluetooth bike helmets\, 36“ Blackstone grill\, 36” Traeger Flat Rock Griddle\, 2 skids shavings\, flag croquet set\, stationary & portable foldable rotating wash lines.\nFurniture: Bedroom sets: 6-piece queen maple shadow bedroom set\, a 6-piece quarter sawn white oak shadow bedroom set\, a 5-piece bedroom set. 3 dining room sets w/6 chairs and 4 leaves each\, 56″ Gray rolltop desk\, 2 new Rainbow Bedding mattresses\, a selection of new upholstered furniture from Pleasant View Furniture\, Egg chair\, a nice selection of new poly furniture including poly round tables\, chairs\, gliders\, and more.\nQuilts: Expecting a nice selection of quilts.\nShoes/Nursery: Hundreds of pairs of shoes & boots. This is a great place to buy shoes & boots for the family! A nice variety of nursery items from Yoder’s Greenhouse\nAttention! Robert Yoder from Centier Specialties will be selling a set of custom kitchen cabinets\, 12′ long top & bottom\, built\nto the buyer’s specs. For more information\, please call Robert 330-275-3345\nFor information contact one of the following:\nMarlin Miller: 330-359-0180 or Reuben Miller: 330-663-6923\nAuctioneers: Orus Mast\, Joe Miller\, Allen Mast\, Jr. Mast\,  Allen Troyer\, Marlin Troyer\, Larry Troyer \nSaturday Sale Order:\n9:00 AM- Misc. main tent\n9:15 AM- Ring 2: Boots & shoes\n9:30 AM- Large furniture begins\n9:30 AM- Rows of misc. outside\nNote: We will be selling 3 rings most of the time.\nThere will be lots of items that are not listed! \n 
URL:https://northwoodauctions.com/auctions/46th-annual-alpine-schools-consignment-benefit-auction/
LOCATION:46th Annual Alpine Schools Consignment Benefit Auction.\, 1573 US 62\, Wilmot\, OH\, 44689\, United States
CATEGORIES:Auction
END:VEVENT
BEGIN:VEVENT
DTSTART;TZID=UTC:20240921T120000
DTEND;TZID=UTC:20240921T170000
DTSTAMP:20260424T120049
CREATED:20240821T190540Z
LAST-MODIFIED:20240916T123943Z
UID:19129-1726920000-1726938000@northwoodauctions.com
SUMMARY:Winesburg Fall Gathering.
DESCRIPTION:2024_fall_gathering_bh_3066 \n                          Winesburg Fall Gathering 30TH ANNIVERSARY BENEFIT & FUNDRAISER\n                                                  Saturday\, September 21\, 2024 • 12 Noon\nLocation: The auction will be held in a large tent at the Winesburg Park. \nEarly Donations and Highlights include .. a 40’x 60′ shop building built on the buyer’s level lot. For building information contact Eddie Yoder 330 – 844- 8704.\nNew Kubota Tractor 2021 LX2610SUHSD 6316\, 4 x4 · Open Operator Station · 15 Hours · 24 HP · 3 Cylinder\, New Hopeview top buggy\, Bio buggy harness\, standardbred horse\, bedroom sets\, dining room sets\, Hunting blind\, back pack blower\, a nice selection of locally made furniture\, gift cards\, tools\, and misc.\nNote: A raffle drawing will be held on Saturday evening.\nFood Trucks & Entertainment Friday evening and Saturday!\nAll items are donated! The proceeds will be given to needy people in the area.\nYour support is greatly appreciated!\nRaffle Prizes- Drawing 8:00 pm Saturday\nGRAND PRIZE:\nTrained Pony with Cart & Harness\nother prizes include:\nE- Bike\n$500 Gift Card from Miller’s Hardware\nBreveille Coffee Machine\nMonsta Fuel Softball Bat\nYeti Cooler with Meat\nFlag Croquet Set\n$200 Premier Outdoors Gift Card\n(2) Pioneer Trails Tickets to Florida\n(2) Night Stay at The Cottage in Winesburg\nVolleyball/Badminton Set Combo\nHoverboard \nTerms: Cash or check\nFor more information contact: Eli Wengerd 330-231-0091\nAuctioneers: Orus Mast 330-473-9077 Allen Mast 330-600-0754
URL:https://northwoodauctions.com/auctions/winesburg-fall-gathering-2/
LOCATION:Winesburg Fall Gathering
CATEGORIES:Auction
END:VEVENT
BEGIN:VEVENT
DTSTART;TZID=UTC:20240925T163000
DTEND;TZID=UTC:20240925T183000
DTSTAMP:20260424T120049
CREATED:20240821T193035Z
LAST-MODIFIED:20240821T193506Z
UID:19132-1727281800-1727289000@northwoodauctions.com
SUMMARY:Beechy Real Estate  & Chattel Auction.
DESCRIPTION:allen_beechy_brochure \n  \n                                                                       Beechy Real Estate & Chattel Auction\n                                                                          Wednesday\, September 25\, 2024\n                                                                Chattels at 4:30 pm\, Real Estate at 6:00 pm\n                                                      Open House: Tuesday\, September 17 · 5:00 – 7:00 pm\n                                                 Location: 3685 County Road 135 Millersburg\, Ohio 44654\n4 Bedroom Home • 2 Story Bank Barn • 1 Parcel 3.34 Acres • Fenced Pasture • Nice Area • Contents Walnut Creek Twp • Holmes County • E. Holmes Schools\nThis all-Brick Home was Built in 1981.\nFeatures include a full walkout basement with a nice set of kitchen cabinets\, a sitting room\, a bathroom\, a canned food room\, and some storage area. The main floor includes a nice kitchen with a lot of walnut cabinets\, a dutch pantry\, an island\,\nand a built in desk\, a living room\, 4 bedrooms\, a full bathroom\, and some hardwood floors.\nThe Bank Barn has room for your animals on the first floor\, a water hydrant\, a newer garage door\, & a storage area plus a lot of storage space or shop area on the second floor.\nA 10’ x 12’ storage barn sells with the property.\nThe home has large shade trees\, a septic system\, a water well and a spring\, a solar system\, a natural gas hot water heating system\, and gas lights.\nA Great Opportunity To Own A Country Property near Berlin and Walnut Creek!\nReal Estate Terms: A 10% nonrefundable down payment is due at the auction.\nThe balance will be due at closing in approximately 45 days. The property sells as is and subject to all articles of record. Announcements at the auction precede previous statements and ads.\nReal Estate Taxes: $1\,364.52/half year\nHousehold & Collectibles: Blue reclining couch\, 2 glider rockers\, recliner\, extension table\, oval table with 4 chairs\, natural gas cook stove\, 8’ Lifetime table\, porch glider\, Old German Bible\, lots of books\, pen collection\, gas floor lamp\, card table\, granite coffee pot\, crocks\, ice cream freezer\, 3 watch fobs\, pocket watches\, SS roaster\, Coleman gas iron\, cast iron skillet\, 2 wooden benches\, silverware\, pressure cooker\, double tubs\, canning jars\, clothes dryer\, and a lot of misc. household items.\nShop\, Lawn & Garden items: 4’ x 7’ trailer\, new gas grill\, Poulan Pro 5hp. Tiller\, Toro sf lawn mower\, 16’ alum. ext. ladder\, garden trailer\, Honda 2.5 hp motor\, chain saw\, weed eater\, 7 man tent\, several saws\, fishing supplies\, air hose\, fire pit\, 375 & 410 watt inverters\, 2 battery chargers\, handyman jack\, buggy jack\, shovels forks\, volleyball set\, old wooden box\, and more.\nGuns: Mossberg 12 ga. Camo shot gun with a Bushnell scope\, Ruger M.K. 22 cal. pistol N.R.A.\n12069\, 22 rifle\, 2 gun cases\, 12 ga. Slugs.\, camo hunting blind.\nChattel Terms: Cash or good check. \nFood Stand: by Byler’s BBQ \nAuctioneers/ Realtors Orus Mast 330-473-9077 Allen Mast 330-600-0754
URL:https://northwoodauctions.com/auctions/beechy-real-estate-chattel-auction/
LOCATION:Beechy Real Estate & Chattel Auction\, 3685 County Road 135\, Millersburg\, OH\, 44654\, United States
CATEGORIES:Real Estate and Chattel Auctions
END:VEVENT
END:VCALENDAR