BEGIN:VCALENDAR
VERSION:2.0
PRODID:-//Northwood Auctions - ECPv6.6.4.2//NONSGML v1.0//EN
CALSCALE:GREGORIAN
METHOD:PUBLISH
X-ORIGINAL-URL:https://northwoodauctions.com
X-WR-CALDESC:Events for Northwood Auctions
REFRESH-INTERVAL;VALUE=DURATION:PT1H
X-Robots-Tag:noindex
X-PUBLISHED-TTL:PT1H
BEGIN:VTIMEZONE
TZID:UTC
BEGIN:STANDARD
TZOFFSETFROM:+0000
TZOFFSETTO:+0000
TZNAME:UTC
DTSTART:20250101T000000
END:STANDARD
END:VTIMEZONE
BEGIN:VEVENT
DTSTART;TZID=UTC:20250910T180000
DTEND;TZID=UTC:20250910T190000
DTSTAMP:20260423T103450
CREATED:20250814T185521Z
LAST-MODIFIED:20250825T141248Z
UID:21453-1757527200-1757530800@northwoodauctions.com
SUMMARY:Public Real Estate Auction.
DESCRIPTION:4-pg_brochure \n                                                               Public Real Estate Auction\n                                                   Wednesday\, September 10\, 2025 ∙ 6:00 PM\n                                     Location. Near 14711 County Road 436 Dresden\, Ohio 43821\nDirections. From Coshocton\, Ohio take State Route 16 south 13 miles to State Route 60 turn right 1.2 miles to County Road 436 turn left to Township Road 71 turn left to the auction. The land is 40 miles south of Millersburg and 65 miles from Columbus\, Ohio.\n                                                 102 Wooded Acres ∙ 3 Parcels ∙ Hunting Blinds\n                                             Trails ∙ Excellent Hunting & Recreational Property\n                                                      Washington Township ∙ Coshocton County\nHere is an opportunity to own a bigger parcel of hunting and recreational land in a nice area. Available to buy just before the hunting season begins. The land lays nice\, is nearly all wooded\, and features 2 elevated hunting blinds\, food plots\, trails\, a creek\, and plenty of deer\, turkeys\, and other wildlife.\nHunting Rights transfer with a 10% down payment.\n                       The land is all set up and located in one of the best hunting areas in the state of Ohio!\nPARCEL INFORMATION\nParcel #1– 41 acres with frontage at 3 locations. Mostly wooded with enough open land for food plots.\nParcel #2– 31.3 acres nearly all wooded\, with a nice creek and a small portion of open land.\nParcel #3- 30.6 acres. Adjoins parcel #2 and is nearly all wooded with a food plot and access from C.R. 436.\nPurchase 1\, 2\, or 3 parcels and be ready to hunt on opening day!!\nStop in\, pick up a brochure\, check out this quiet secluded setting and walk the land at your convenience and risk!\nTERMS There is no buyer’s premium. A 10% non-refundable down payment is due at the auction. The balance will be due at closing in approximately 60 days. Hunting rights transfer with the down payment. Announcements at the auction precede previous statements and ads. \nAuctioneers Orus Mast 330-473-9077 Allen Mast 330-600-0754
URL:https://northwoodauctions.com/auctions/public-real-estate-auction-6/
LOCATION:Public Real Estate Auctions.\, 14711 County Road 436\, Dresden\, OH\, 43821\, United States
CATEGORIES:Real Estate Auction
END:VEVENT
END:VCALENDAR