BEGIN:VCALENDAR
VERSION:2.0
PRODID:-//Northwood Auctions - ECPv6.6.4.2//NONSGML v1.0//EN
CALSCALE:GREGORIAN
METHOD:PUBLISH
X-WR-CALNAME:Northwood Auctions
X-ORIGINAL-URL:https://northwoodauctions.com
X-WR-CALDESC:Events for Northwood Auctions
REFRESH-INTERVAL;VALUE=DURATION:PT1H
X-Robots-Tag:noindex
X-PUBLISHED-TTL:PT1H
BEGIN:VTIMEZONE
TZID:UTC
BEGIN:STANDARD
TZOFFSETFROM:+0000
TZOFFSETTO:+0000
TZNAME:UTC
DTSTART:20250101T000000
END:STANDARD
END:VTIMEZONE
BEGIN:VEVENT
DTSTART;TZID=UTC:20250805T180000
DTEND;TZID=UTC:20250805T190000
DTSTAMP:20260423T151810
CREATED:20250708T234728Z
LAST-MODIFIED:20250708T234728Z
UID:20960-1754416800-1754420400@northwoodauctions.com
SUMMARY:Miller Real Estate Auction.
DESCRIPTION:stephen_miller_brochure \n                                                        Miller Real Estate Auction\n                                                Tuesday\, August 5\, 2025 • 6:00 pm\n                                  Open House: Thursday\, July 24 ∙ 5:00 – 7:00 P.M. \n                               Location: 7870 State Route 754 Shreve\, Ohio 44676\n  Directions: From Holmesville\, take C.R. 329 west to C.R. 318 left to S. R. 754 west to the property. \n                                     4 Bedroom Home • 2 Story Shop/Garage\n                                     5.93 Acres • 2 Parcels • Ripley Township\n                                      Holmes County • West Holmes Schools \nAn Opportunity to own a Comfortable Home in the Country!!\nThe Home features a kitchen\, a dining room\, a living room\, the master bedroom\, 2 additional bedrooms\, a full bathroom on the main floor. \nThe finished basement includes a nice sized family room with a brick hearth next to the chimney\, a large bedroom\, a bathroom\, the laundry room\, a canned food storage area\, plus an oversized garage with floor drains.\nA Beautiful 32’ x 64’ 2 Story Shop/Garage Building with a 12’ overhang is in good condition and has many\npossibilities. The building has a metal roof and siding\, is insulated\, has a 10’ ceiling\, an office\, a work bench\, & 12’\nsliding doors at each end. The second story features infloor heat a large wide open area\, and good sized windows.\nParcel #2 is a beautiful 2 acre parcel with a nice building site.\nA few other nice Features to this rural property include: A 12’ x 16’ chicken coop\, a good 16’ x 20’ storage\nbuilding with a garage door\, several acres nearly level open land\, the large shade trees\, all in a nice country\nsetting and is located between Holmesville and Lakeville! \nThis is a good solid home for your family with plenty of land for some animals!\nReal Estate Terms\nThere is no buyer’s premium. A 10% nonrefundable down payment is due at the auction. The Buyers will be charged $750 per parcel for survey costs. the parcel split is subject to ODOT approval. The balance will be due at closing in approximately 45 days. Announcements at the auction precede previous statements and ads.\nParcel #23-00130-000 \nParcel 1: 3.93 acres with the buildings\nParcel 2: 2 acres with a nice building site.\nR.E. Taxes: $1602.03/Half Yr. \nOwners: Stephen E. & Karen P. Miller \nAuctioneers/Realtors Orus Mast 330-473-9077 Allen Mast 330-600-0754
URL:https://northwoodauctions.com/auctions/miller-real-estate-auction-29/
LOCATION:Miller Real Estate Auction\, 7870 State Route 754\, Shreve\, OH\, 44676\, United States
CATEGORIES:Real Estate Auction
END:VEVENT
BEGIN:VEVENT
DTSTART;TZID=UTC:20250819T180000
DTEND;TZID=UTC:20250819T190000
DTSTAMP:20260423T151810
CREATED:20250723T154829Z
LAST-MODIFIED:20250723T154843Z
UID:21294-1755626400-1755630000@northwoodauctions.com
SUMMARY:Public Real Estate Auction.
DESCRIPTION:nikki_miller_brochure \n                                                      Public Real Estate Auction\n                                                 Tuesday August 19\, 2025 • 6:00 pm\n                  Open House: The property will be open for inspection 1 hour before the auction starts\n                               Location: 8801 Millersburg Road Gambier\, Ohio 43022 \n                  Directions: The property is located between Danville and Martinsburg\, Ohio on U.S. 62\n                                          Updated 3 Bedroom Home • 1.5 Acres • 1 Parcel\n                                             24’ x 40’ Shop/Garage • East Knox Schools\n                                                      Harrison Township • Knox County\n                                      An Affordable Updated Property in the Country!! \nThe Manufactured Home features a roomy open kitchen\, dining\, and living room area\, 3 bedrooms\, and 2 bathrooms\, a 14’ x 18’ laundry room with a floor drain\, and some storage areas.\nThe 24’ x 40’ Barn/Garage Building has several possibilities and includes a new overhead garage door\, a cement floor\, a chicken coop area and room for a few animals plus an 8 ‘ overhang for storage.\nThe property has a private well and septic\, central air\, propane gas\, large shade trees\, a nice\, nearly level lawn\, a small wooded area \, and room for a pasture field. Recent Updates Include new windows\, new shingles\, new siding\, new\nfloor coverings\, and more.\nHere is That Home in The Country On a Nice Country 1.5 Acre Lot! \nReal Estate Terms There is no Buyer’s premium. A 10% nonrefundable down payment is due at the auction. The balance will be due at closing in approximately 45 days. We are offering a 1% referral to a buyer’s agent. Announcements at the auction precede previous statements and ads.\nParcel #15-00251.000\nR.E. Taxes: $799.30/Half Yr \nAuctioneers/Realtors Orus Mast 330-473-9077 Allen Mast 330-600-0754
URL:https://northwoodauctions.com/auctions/public-real-estate-auction-4/
LOCATION:Public  Real Estate Auction\, 8801 Millersburg Road\, Gambier\, OH\, 43022\, United States
CATEGORIES:Real Estate Auction
END:VEVENT
BEGIN:VEVENT
DTSTART;TZID=UTC:20250826T180000
DTEND;TZID=UTC:20250826T190000
DTSTAMP:20260423T151810
CREATED:20250723T160814Z
LAST-MODIFIED:20250825T135137Z
UID:21320-1756231200-1756234800@northwoodauctions.com
SUMMARY:Public Real Estate Auction.
DESCRIPTION:fm\,llc_brochure \n                                                    Public Real Estate Auction\n                                                                Tippecanoe Area \n                                              Tuesday\, August 26\, 2025 • 6:00 pm\n                    Location: Near 82819 Tippecanoe Road (S.R. 800) Tippecanoe\, Ohio 44699.\n                             From Dover\, Ohio take U.S. 250 east to S.R. 800 east to the land.\n                         53 Wooded Acres • Nice Timber Ready to Cut • 3 Parcels • ATV Trails\n                                  Hunting Cabin • Excellent Hunting or Recreational Property\n                    Rush Township\, Tuscarawas County & Washington Township\, Harrison County\n                               Timber Buyers\, Hunters\, Investors: Check out this Parcel!\nThis is your opportunity to own a very nice parcel of hunting or recreational land with lot of timber that is ready\nto cut\, a well built split faced cement block cabin\, and trails through out the property\, only 23 miles from Dover\,\nOhio. If you want to own a small parcel of land with a well built cabin near the lakes look at Parcel # 1. The cabin\nfeatures a garage\, a bedroom\, and a bathroom on the first floor plus a loft with several beds and an unfinished\nbathroom upstairs and water from the spring. Parcel #3 has a beautiful wooded building site. The land has frontage on SR 800 and Ferguson Road.\nStop in\, pick up a brochure\, evaluate the timber\, the land\, and the hunting cabin and walk the land at your convenience!\n Purchase one or more Parcels and be ready to hunt on Opening Day!!\nReal Estate Terms There is no Buyer’s premium. A 10% nonrefundable down payment is due at the auction. The balance will be due at closing in approximately 60 days. Hunting rights transfer with the down payment.\nThe Buyers will be charged $750 per parcel for survey costs. Announcements at the auction precede previous statements and ads.\nParcel #1: 5.2 Wooded acres with the cabin\nParcel #2: 6.1 Wooded acres frontage on Ferguson Road\nParcel #3: 41.6 Wooded acres frontage on SR 800 & Ferguson Road\nAuctioneers/Realtors Orus Mast 330-473-9077 Allen Mast 330-600-0754
URL:https://northwoodauctions.com/auctions/public-real-estate-auction-5/
LOCATION:Public Real Estate Auctions.\, 14711 County Road 436\, Dresden\, OH\, 43821\, United States
CATEGORIES:Real Estate Auction
END:VEVENT
BEGIN:VEVENT
DTSTART;TZID=UTC:20250827T180000
DTEND;TZID=UTC:20250827T190000
DTSTAMP:20260423T151810
CREATED:20250723T163358Z
LAST-MODIFIED:20250723T163430Z
UID:21363-1756317600-1756321200@northwoodauctions.com
SUMMARY:Weaver Real Estate Auction.
DESCRIPTION:joey_weaver_brochure \n                                                     Weaver Real Estate Auction\n                                            Wednesday\, August 27\, 2025 • 6:00 pm\n                                 Open House: Monday\, August 18 • 5:00 – 7:00 PM\n                             Location: 18857 Brenneman Road Dundee\, Ohio 44624\n  The property is located 2.5 miles east of Mt. Eaton and 1.5 miles west of Wilmot on Brenneman Road\n                                           4 Bedroom Updated Home • Nice Barn\n                                          Fenced Pasture • 40’ x 40’ Shop/Garage\n                                      3.27 Acres • Paint Township • Wayne County\nA Charming Country Home in Move-In Condition!!\nFeatures of The Weaver Property include the House which has been nicely updated and has a kitchen with\nan island\, a dining room\, a living room\, and a fully remodeled bathroom on the main floor. There are 4 bedrooms\nupstairs. (3 bedrooms have been remodeled). \n The home has a full walk out basement and a nice wrap-around porch with a built in bar where you can enjoy summer meals and family time.\nThe 30’ x 30’ Barn was new in 2013 and includes 3 boxstalls\, a storage area \, a water hydrant\, and hay and straw storage above.\nThe 40’x 40’ Shop is wired and has a concrete floor with drains\, 2 overhead garage doors\, and a nice work bench.\nA Few More Nice Features included are a nice sized pasture field with good fence\, a patio/fire ring area to relax\,\nan 8’ x 10’ storage barn\, 6 solar panels\, and a nearly level back yard! The home is wired and can be heated with the\nwood burner or natural gas. \nReal Estate Terms There is no Buyer’s premium. A 10% nonrefundable down payment is due at the auction. The balance will be due at closing in approximately 45 days. Announcements at the auction precede previous statements and ads. \nParcel #39-1364.000\nR.E. Taxes: $2084.12/Half Yr. \nOwners: Joey & Anita Weaver \nAuctioneers/Realtors Orus Mast 330-473-9077 Allen Mast 330-600-0754
URL:https://northwoodauctions.com/auctions/weaver-real-estate-auction/
LOCATION:Weaver Real Estate Auction\, 18857 Brenneman Road\, Dundee\, OH\, 44624\, United States
CATEGORIES:Real Estate Auction
END:VEVENT
BEGIN:VEVENT
DTSTART;TZID=UTC:20250828T180000
DTEND;TZID=UTC:20250828T190000
DTSTAMP:20260423T151810
CREATED:20250723T171031Z
LAST-MODIFIED:20250825T135414Z
UID:21405-1756404000-1756407600@northwoodauctions.com
SUMMARY:Miller Real Estate Auction.
DESCRIPTION:miller_brochure (1) \n                                                              Miller Real Estate Auction\n                                                       Thursday August 28\, 2025 • 6:00 pm\n                       Location: Near 1324 Baltzley Valley Road SE New Philadelphia\, Ohio 44663.\nFrom US 250 in New Philadelphia take Schoenbrunn exit then turn right on East High Ave. to Baltzley Valley Road SE turn right one mile to the land on the left. \n                                                            41 Wooded Acres • One Parcel\n                                             Excellent Hunting or Recreational Property\n                                                                            ATV Trails • \n                                                  Goshen Township • Tuscarawas County \nHunting Land in a Great Location at the Right Time! \nThis is your opportunity to purchase a parcel of hunting land that is all set up with 3 elevated hunting blinds\, established food plots\, bedding areas\, a deer feeder\, Rut Master and Red Dawn apple trees\, plus a nice little cabin/storage barn where you can camp for the night or enjoy a weekend just minutes from Dover and New Philadelphia!\nTruly a property where you can park\, walk quietly to the blinds\, and be hunting in minutes. Also included is a nice building site where you can build your dream home and enjoy your own hunting land.\n                                  (Mineral Rights do not transfer )\nStop in\, pick up a brochure\, and walk the land at your convenience!\n                                                 Purchase a Nice Parcel That is all set up and Ready to go! \n Real Estate Terms There is no Buyer’s premium. A 10% nonrefundable down payment is due at the auction. The balance will be due at closing in approximately 45 days. Hunting rights transfer with the down payment. Announcements at the auction precede previous statements and ads.\nParcel #2401458000\nReal Estate Taxes: $78.81/half yr.\nOwners: The Millers \nAuctioneers/Realtors Orus Mast 330-473-9077 Allen Mast 330-600-0754
URL:https://northwoodauctions.com/auctions/miller-real-estate-auction-30/
LOCATION:Miller  Real Estate Auction\, Near 1324 Baltzley Valley Road SE\, New Philadelphia\, OH\, 44663\, United States
CATEGORIES:Real Estate Auction
END:VEVENT
END:VCALENDAR