BEGIN:VCALENDAR
VERSION:2.0
PRODID:-//Northwood Auctions - ECPv6.6.4.2//NONSGML v1.0//EN
CALSCALE:GREGORIAN
METHOD:PUBLISH
X-ORIGINAL-URL:https://northwoodauctions.com
X-WR-CALDESC:Events for Northwood Auctions
REFRESH-INTERVAL;VALUE=DURATION:PT1H
X-Robots-Tag:noindex
X-PUBLISHED-TTL:PT1H
BEGIN:VTIMEZONE
TZID:UTC
BEGIN:STANDARD
TZOFFSETFROM:+0000
TZOFFSETTO:+0000
TZNAME:UTC
DTSTART:20250101T000000
END:STANDARD
END:VTIMEZONE
BEGIN:VEVENT
DTSTART;TZID=UTC:20250605T180000
DTEND;TZID=UTC:20250605T190000
DTSTAMP:20260423T182228
CREATED:20250502T171337Z
LAST-MODIFIED:20250502T171337Z
UID:20679-1749146400-1749150000@northwoodauctions.com
SUMMARY:Mast Real Estate Auction.
DESCRIPTION:                                          \nmast_bros_brochure \n                                             Mast Real Estate Auction \n                                          Thursday\, June 5\, 2025 • 6:00 pm \n                                            Open House May 27\, 5:00 – 7:00 P.M.\n                          Location: 7997 Chestnut Ridge Road\, Dundee\, Ohio 44624\n      Directions: From Winesburg take Chestnut Ridge Road east 5 miles to the property. \nAn Affordable Starter Property • 1.49 Acres – 3 Bedroom Home • 18’ x 20’ Pole Building – Fairless Schools • Wayne Township • Tuscarawas County \nFeatures of this Affordable Property include a nice\, nearly level 1.49 acre parcel of land in a nice area\, an older home with a kitchen including a Crosley cook stove\, a Maytag refrigerator\, a living room\, 3 bedrooms\, a bathroom\, and several built in storage areas\, and a garage in the walk out basement.\nThe home is in need of some updates but has hardwood floors\, vinyl siding\, a metal roof\, a 3-sided 18’ x 20’ pole building\, and sets on a nice parcel of land with enough room for a barn and a few animals between Winesburg and Beach City.\nThe property has a private well & septic. \n                              Join us at the open House and put your Imagination to work! \nParcel #70-00021-000 & 68-00139-000\nR.E. Taxes: $619.28/Half Yr. \nReal Estate Terms: There is no buyer’s premium. A 10% nonrefundable down payment is due at the auction.\nThe balance will be due at closing in approximately 45 days. Announcements at the\nauction precede previous statements and ads. \nOwner: The Mast Brothers \nAuctioneers/Realtors Orus Mast 330-473-9077 Allen Mast 330-600-0754
URL:https://northwoodauctions.com/auctions/mast-real-estate-auction-2/
LOCATION:Mast Real Estate Auction\, 7997 Chestnut Ridge Road\, Dundee\, OH\, 44624\, United States
CATEGORIES:Real Estate Auction
END:VEVENT
BEGIN:VEVENT
DTSTART;TZID=UTC:20250611T180000
DTEND;TZID=UTC:20250611T190000
DTSTAMP:20260423T182228
CREATED:20250527T181002Z
LAST-MODIFIED:20250527T181002Z
UID:20781-1749664800-1749668400@northwoodauctions.com
SUMMARY:Miller Real Estate Auction.
DESCRIPTION:owen_j_miller_brochure \n                                                    Miller Real Estate Auction\n                                             Wednesday\, June 11\, 2025 • 6:00 pm \n                                    Open House: Tuesday\, June 3 ∙ 5:00 – 7:00 P.M. \n                                  Location: 5117 County Road 59 Baltic\, Ohio 43804\n          Directions: Between Charm and New Bedford on C. R. 600 take C. R. 59 west to the property.\n            Nice Country Property • 5 Bedroom Home – 2 Story Bank Barn • 4.38 Acres • Fenced Pasture\n                                                    Mechanic Township • Holmes County \n                                   This is a Nice Country Property in move-in Condition!\nThe House was built in 1994 and features a nice bright walkout basement with a good set of kitchen cabinets\, a bathroom\, a laundry room\, a canned food room\, a storage room\, and a room with a dirt floor. The main floor consists of the kitchen with an island\, a pantry\, a living room\, a bathroom\, an entrance with a built-in storage cabinet\, plus a big\, bright sewing/study room. Two of the 4 bedrooms upstairs are finished.\nThe 2 Story Bank Barn/Shop was built in 1993 on a poured wall foundation and includes several boxstalls\, a\nharness cabinet\, a cement floor\, a storage area\, and a water hydrant on the first floor. There is an 18’ x 42’ heated shop area and storage space on the second floor. (The dog kennel is not included.)\nA few other nice features include a beautiful relaxing 16’ x 28’ patio with Trex decking and vinyl railing\, a storage\nbarn\, a small pole building (motor room) \, rasberries\, blue berries\, strawberries\, and grapes\, the spring fed water\ntroughs in the pasture field\, good horse fence\, a few solar panels\, nice landscaping\, a wooded area\, and more. The\nproperty has a spring\, a water well\, a private septic\, and can be heated with wood or natural gas.\nJust Buy and Move in!! \n Real Estate Terms There is no buyer’s premium. A 10% nonrefundable down payment is due at the auction. The balance will be due at closing in approximately 45 days. Announcements at the auction precede previous statements and ads. \n Parcel #13003760001 & 1300376006\nR.E. Taxes: $1818.65/Half Yr \nOwners: Owen J. & Fannie R. Miller \nAuctioneers/Realtors Orus Mast 330-473-9077 Allen Mast 330-600-0754
URL:https://northwoodauctions.com/auctions/miller-real-estate-auction-27/
LOCATION:Miller Real Estate Auction\, 7870 State Route 754\, Shreve\, OH\, 44676\, United States
CATEGORIES:Real Estate Auction
END:VEVENT
END:VCALENDAR