BEGIN:VCALENDAR
VERSION:2.0
PRODID:-//Northwood Auctions - ECPv6.6.4.2//NONSGML v1.0//EN
CALSCALE:GREGORIAN
METHOD:PUBLISH
X-WR-CALNAME:Northwood Auctions
X-ORIGINAL-URL:https://northwoodauctions.com
X-WR-CALDESC:Events for Northwood Auctions
REFRESH-INTERVAL;VALUE=DURATION:PT1H
X-Robots-Tag:noindex
X-PUBLISHED-TTL:PT1H
BEGIN:VTIMEZONE
TZID:UTC
BEGIN:STANDARD
TZOFFSETFROM:+0000
TZOFFSETTO:+0000
TZNAME:UTC
DTSTART:20250101T000000
END:STANDARD
END:VTIMEZONE
BEGIN:VEVENT
DTSTART;TZID=UTC:20250508T080000
DTEND;TZID=UTC:20250508T180000
DTSTAMP:20260425T121001
CREATED:20250411T171813Z
LAST-MODIFIED:20250411T172157Z
UID:20394-1746691200-1746727200@northwoodauctions.com
SUMMARY:Yoder Land Auction.
DESCRIPTION:                       \nallen_yoder_brochure                                            \n                                                                Yoder Land Auction\n                                                       Thursday\, May 8\, 2025 • 6:00 pm\n                                  Location: 27629 State Route 643\, Coshocton\, Ohio 43812\n                        Directions: From New Bedford\, take State Route 643 south to the auction.\n        29.6 Acres • 2 Parcels • Open & Wooded Land Nice Building Sites • Insulated Storage Barn\n                                    Beautiful View • Keene Township • Coshocton County\n                   Here’s a nice Opportunity to own Some Beautiful Land in the Country!!\nThis is very nice parcel of land in the rolling hills of northern Coshocton County. Included is approximately 16 acres open land\, currently used for farming\, and 13 acres of woods with a hunting blind\, lots of deer\, turkey\, and other wildlife. There are several beautiful building sites on the land with gorgeous views! The insulated 10’ x 16’ storage barn is included. Feel free to stop in\, and walk the land at your convenience.\nBuild or Invest in land only a short drive from New Bedford\, Millersburg\, and Coshocton!! \nReal Estate Terms A 10% nonrefundable down payment is due at the auction. The balance will be due at closing in approximately 45 days. The buyers will be charged $700 per parcel for survey costs. Announcements at the auction precede previous statements and ads. \nParcel Information:\nParcel #1: 9.61 Acres mostly open land\nParcel #2: 20.01 Acres open & wooded land\nThe parcels will have a shared driveway (already installed) \nParcel #017-00001007-10\nR.E. Taxes: $123.53/Half Yr.\nOwner: Allen E. Yoder \nAuctioneers/ Realtors Orus Mast 330-473-9077 Allen Mast 330-600-0754 \n                     \nC[P] R[1]S[1]T[57F]:P[2914] [CAMERA1] M[5] Pl[0360 1080 1439 1439]C[P] R[1]S[1]T[71F]:P[2881] [CAMERA1] M[6] Pl[0360 1080 1439 1439]C[P] R[1]S[1]T[60F]:P[2883] [CAMERA1] M[6] Pl[0360 1080 1439 1439]C[P] R[1]S[1]T[64F]:P[2913] [CAMERA1] M[2] Pl[0360 1080 1439 1439]$CoMmEntv3 \n$CoMmEntv3\nC[P] R[1]S[1]T[69F]:P[2882] [CAMERA1] M[6] Pl[0360 1080 1439 1439] \nC[P] R[1]S[1]T[51F]:P[2873] [CAMERA1] M[6] Pl[0360 1080 1439 1439]
URL:https://northwoodauctions.com/auctions/yoder-land-auction-7/
LOCATION:Yoder Land Auction\, 27629 State Route 643\, Coshocton\, OH\, 43812\, United States
CATEGORIES:Real Estate Auction
END:VEVENT
BEGIN:VEVENT
DTSTART;TZID=UTC:20250514T180000
DTEND;TZID=UTC:20250514T190000
DTSTAMP:20260425T121001
CREATED:20250417T125222Z
LAST-MODIFIED:20250417T125222Z
UID:20427-1747245600-1747249200@northwoodauctions.com
SUMMARY:Miller Land Auction.
DESCRIPTION:samuel_miller_brochure \n                                                      Miller Land Auction\n                                          Wednesday\, May 14\, 2025 • 6:00 pm\nLocation: These 2 parcels are located between Winesburg and Beach City near 7557 Chestnut Ridge Road N.W. Beach City\, Ohio 44608\n11.82 Acres • 2 Parcels • Open Land- Nice Building Sites • Creek • Wayne Township – Tuscarawas County • Fairless Schools\n                                                    2 Beautiful Country Building Parcels!!\nThe 11.8 acres are rolling and currently used for farming. They will be offered in 2 parcels and as a whole . Each parcel features a nice building site\, enough land for some animals\, a nice sized creek\, & a small wooded area\, all in a peaceful setting. \nA Beautiful Spot to Build your Dream Home with a Wooded Background!\nPlease stop by\, pick up a brochure\, and walk the land at your convenience.\nReal Estate Terms A 10% nonrefundable down payment is due at the auction. The balance will be due in approximately 45 days. The buyers will be charged $700 per parcel for survey costs. Possession will be given to the buyer at closing. Announcements at the auction precede previous statements and ads.\nParcel #70-00004-006\nParcel Information:\nParcel #1: 6 Acres\nParcel #2: 5.82 Acres \nR.E. Taxes: $87.23/Half Yr \nOwners: Sam & Rebecca Miller \nAuctioneers/Realtors Orus Mast 330-473-9077 Allen Mast 330-600-0754
URL:https://northwoodauctions.com/auctions/miller-land-auction-6/
LOCATION:Miller  Land Auction\, 7557 Chestnut Ridge Road N.W.\, Beach City\, OH\, 44608\, United States
CATEGORIES:Real Estate Auction
END:VEVENT
BEGIN:VEVENT
DTSTART;TZID=UTC:20250522T180000
DTEND;TZID=UTC:20250522T190000
DTSTAMP:20260425T121001
CREATED:20250417T172946Z
LAST-MODIFIED:20250417T173019Z
UID:20623-1747936800-1747940400@northwoodauctions.com
SUMMARY:Yoder  Real Estate Auction\,
DESCRIPTION:david_o_yoder_brochure                                                           \n                                                           Yoder Real Estate Auction\n                                                     Thursday\, May 22\, 2025 • 6:00 pm\n                                          Open House: Tuesday\, May 13 ∙ 5:00 – 7:00 P.M.\n                              Location: 13239 Navarre Road S.W. Beach City\, Ohio 44608\n                       Directions: From Wilmot take US 62 north 1.8 miles to the property\nUpdated Country Property • 3 Bedroom Home – 30’ x 40’ Barn • 1.72 Acres – 24’ x 32’ Detached Garage • Fairless Schools\n                                                            Sugarcreek Township • Stark County\n                                                                 A Nicely Updated Home!!\nThis home has many updates including new siding\, insulation\, counter tops\, a completely remodeled bathroom\, some new flooring\, new paint throughout\, some new windows\, and more! \n The home features a kitchen/dining room\, a living room\, 2 bedrooms\, a full bath\, and an entry with a laundry room on the first floor. There is a full bath and a sitting/bedroom upstairs plus nice storage space upstairs. The home also has nice front porch and a basement.\nThe 24’ x 32’ Detached Garage has electric lights\, a cement floor\, built in shelves\, a work bench\, 2 man doors\, and a 16’ garage door.\nThere is a 30’ x 40’ Mail Pouch Pole Barn included with the property. The large lawn area is fairly level and offers plenty of room for pasture if you would like to keep a few animals.\nA few more nice features include the new pavillion\, the sidewalks\, and landscaping! \n                                              This is a Bright and very clean Home\, and Move-in Ready!!\nReal Estate Terms There is no buyer’s premium. A 10% nonrefundable down payment is due at the auction. The balance will be due at closing in approximately 45 days. Announcements at the auction precede previous statements and ads. \nOwners: David & Linda Yoder \nAuctioneers/Realtors Orus Mast 330-473-9077 Allen Mast 330-600-0754
URL:https://northwoodauctions.com/auctions/yoder-real-estate-auction-22/
LOCATION:Yoder Real Estate Auction\, 13239 Navarre Road S.W.\, Beach City\, OH\, 44608\, United States
CATEGORIES:Real Estate Auction
END:VEVENT
END:VCALENDAR