BEGIN:VCALENDAR
VERSION:2.0
PRODID:-//Northwood Auctions - ECPv6.6.4.2//NONSGML v1.0//EN
CALSCALE:GREGORIAN
METHOD:PUBLISH
X-WR-CALNAME:Northwood Auctions
X-ORIGINAL-URL:https://northwoodauctions.com
X-WR-CALDESC:Events for Northwood Auctions
REFRESH-INTERVAL;VALUE=DURATION:PT1H
X-Robots-Tag:noindex
X-PUBLISHED-TTL:PT1H
BEGIN:VTIMEZONE
TZID:UTC
BEGIN:STANDARD
TZOFFSETFROM:+0000
TZOFFSETTO:+0000
TZNAME:UTC
DTSTART:20250101T000000
END:STANDARD
END:VTIMEZONE
BEGIN:VEVENT
DTSTART;TZID=UTC:20250318T180000
DTEND;TZID=UTC:20250318T190000
DTSTAMP:20260425T153213
CREATED:20250218T193115Z
LAST-MODIFIED:20250218T193908Z
UID:20059-1742320800-1742324400@northwoodauctions.com
SUMMARY:Yoder Land Auction.
DESCRIPTION:jonathan_yoder_brochure (1) \n                                                                               Yoder Land Auction. \n                                                                     Tuesday\, March 18\, 2025 • 6:00 pm \n                                               Location: Beside 5326 Yackey Drive Strasburg\, Ohio 44680\n                                                 These 2 parcels are between Dundee & Strasburg\, Ohio\n15.73 Acres • 2 Parcels • Open & Wooded Land – Hunting Blind • Garaway Schools – Franklin Township • Tuscarawas County. \n                                                                 LOCATION\, LOCATION\, LOCATION!!\nHere is an opportunity to have your own hunting/recreational land and a possible building site only minutes from Dundee and Strasburg. The land is mostly wooded\, it includes 1½ acres open land\, lays nice\, and features trails throughout\, future timber\, a hunting blind\, and plenty of wildlife.\nNote: Please stop by\, pick up a brochure and walk the land at your convenience.\nReal Estate Terms\nA 10% nonrefundable down payment is due at the auction. The balance will be due at closing in approximately 45 days. Gas & Oil rights have been reserved previously. The buyers will be charged $700 per parcel for survey costs. Possession will be give to the buyer at closing.\nAnnouncements at the auction precede previous statements and ads. \nR.E. Taxes: $25.70/Half Yr.\nParcel #01-00178-001\nParcel Information:\nParcel #1: 6.8 Acres\nParcel #2: 8.9 Acres \nOwner: Jonathan Yoder\nAuctioneers/Realtors Orus Mast 330-473-9077 Allen Mast 330-600-0754
URL:https://northwoodauctions.com/auctions/yoder-land-auction-5/
LOCATION:Yoder Land Auction.\, 5326 Yackey Drive\, Strasburg\, OH\, 44680\, United States
CATEGORIES:Real Estate Auction
END:VEVENT
BEGIN:VEVENT
DTSTART;TZID=UTC:20250319T180000
DTEND;TZID=UTC:20250319T190000
DTSTAMP:20260425T153213
CREATED:20250218T195332Z
LAST-MODIFIED:20250218T195413Z
UID:20087-1742407200-1742410800@northwoodauctions.com
SUMMARY:Bowman  Real Estate Auction.
DESCRIPTION:joseph_bowman_brochure (1) \n                                                                 Bowman Real Estate Auction\n                                                           Wednesday\, March 19\, 2025 • 6:00 pm\n                                                  Open House: Monday\, March 10 • 5:00 – 7:00 pm\n                                            Location: 2465 Township Road 414 Dundee\, Ohio 44624\n       The property is located at the northwest edge of Trail\, Ohio Nice Country Property • 5 Bedroom Home\n  2 Story Barn • 4.63 Acres Fenced Pasture • East Holmes Schools – Walnut Creek Township • Holmes County \n                                                    A Nice Country Property in a Good Area!!\nThe buildings were built in 1989. The home features a full walkout basement including a nice set of kitchen cabinets\, a wood burner\, a bathroom\, a laundry room\, a canned food room\, and more. On the main floor there is a nice sized kitchen\, a living room with a wood burner\, a bedroom\, a sewing room with built in cabinets\, a bonus room\, and a full bathroom. There are 4 additional bedrooms upstairs.\nThe 2 Story Barn is built on a concrete foundation and includes several boxstalls\, room for your pets\, a cement floor\, and water hydrant on the bottom floor. The 2nd floor is partially insulated and provides a lot of storage area and room for your work shop.\nThe Chicken Coop/ Animal Shelter/Storage Building is in nice condition.\nA few other nice features include .. The fenced pasture\, enough woods to hunt (4 deer harvested this last season.)\, Winesburg public water\, options to heat the home with wood or gas\, and more.\nThe View From The Front Porch is Hard to Beat!! \n Real Estate Terms There is no buyer’s premium. A 10% nonrefundable down payment is due at the auction. The balance will be due at closing in approximately 45 days. Announcements at the auction precede previous statements and ads.\nParcel #26-01414-000\nR.E. Taxes: $1760.39/Half Yr \nOwners: Joseph M. & Esther O. Bowman \nAuctioneers/Realtors Orus Mast 330-473-9077 Allen Mast 330-600-0754
URL:https://northwoodauctions.com/auctions/bowman-real-estate-auction-2/
LOCATION:Bowman Real Estate Auction.\, 2465 Township Road 414\, Dundee\, OH\, 44624\, United States
CATEGORIES:Real Estate Auction
END:VEVENT
BEGIN:VEVENT
DTSTART;TZID=UTC:20250320T180000
DTEND;TZID=UTC:20250320T190000
DTSTAMP:20260425T153213
CREATED:20250218T201054Z
LAST-MODIFIED:20250218T201054Z
UID:20119-1742493600-1742497200@northwoodauctions.com
SUMMARY:Beachy Real Estate Auction.
DESCRIPTION:daniel_beachy_brochure \n                                                    Beachy Real Estate Auction\n                          Location: 10005 Yoder Road S.W. Sugarcreek\, Ohio 44681\n  From Smokey Lane Stables take Smokey Lane Road south ½ mile to Yoder Road\, turn left to the property\n                                              Thursday\, March 20\, 2025 • 6:00 pm\n                                    Open House: Tuesday\, March 11 • 5:00 – 7:00 pm\nBeautiful Country Property • 5 Bedroom Home 2 Story Bank Barn • 2.75 Acres • Fenced Pasture –                                       Garaway Schools •  Sugarcreek Township • Tuscarawas County\nThe well built home was new in 2013 and includes all the following features\, A nice sized kitchen with a beautiful set of cabinets\, a dutch pantry\, a regular pantry\, an open area to the living room with a cathedral ceiling\, a bedroom\, a sewing room\, a full bathroom\, and a second bathroom on the main floor. There are 4 bedrooms\, a storage room\, and a bathroom upstairs. The full walkout basement is painted and features a big open area\, a bathroom\, a canned food room\, and a storage room.\nThe 32’ x 50’ 2-Story Bank Barn was built in 2017 on a cement block foundation and includes several boxstalls\,\na harness cabinet\, a cement floor\, a 10’ x 24’ storage area\, and a water hydrant on the first floor. There is a very\nsolid 2” x 8” tongue and groove floor and lot of storage on the second level.\nA few other great features.. The pasture field with good horse fence\, the solar system\, solid interior doors\, the\nbuilt-in cabinets\, natural gas hot water infloor heat in the basement and on the main floor\, a spinning washline\,\nnice landscaping\, a beautiful covered porch\, and more.\nA Property in Nearly Like-New Condition! Just Buy and Move in! \nReal Estate Terms There is no buyer’s premium. A 10% nonrefundable down payment is due at the auction. The balance will be due at closing in approximately 45 days. Announcements at the auction precede previous statements and ads. \nParcel #56-00046-001 \nR.E. Taxes: $2264.82/Half Yr. \nOwners: Daniel R. & Leah R. Beachy \nAuctioneers/Realtors Orus Mast 330-473-9077 Allen Mast 330-600-0754
URL:https://northwoodauctions.com/auctions/beachy-real-estate-auction/
LOCATION:Beachy Real Estate Auction.\, 10005 Yoder Road S.W.\, Sugarcreek\, OH\, 44681\, United States
CATEGORIES:Real Estate Auction
END:VEVENT
BEGIN:VEVENT
DTSTART;TZID=UTC:20250325T180000
DTEND;TZID=UTC:20250325T190000
DTSTAMP:20260425T153213
CREATED:20250227T164058Z
LAST-MODIFIED:20250227T164058Z
UID:20166-1742925600-1742929200@northwoodauctions.com
SUMMARY:Coblentz  Real Estate Auction.
DESCRIPTION:ivan_coblentz_brochure \n                                                             Coblentz Real Estate Auction\n                                                        Tuesday\, March 25\, 2025 • 6:00 pm\nLocation: This parcel is between Berlin and Charm\, Ohio and is located across the road from 4614 County Road 120 Millersburg\, Ohio 44654\n          2.68 Acres • One Parcel Great Location • East Holmes Schools – Berlin Township • Holmes County\nHere is a Rare Opportunity to own a beautiful parcel of land between Berlin and Charm Ohio!\nThe land is currently used for pasture and includes a good sized creek and and lots of road frontage on multiple roads! There is a small portion of land in the northwest corner in the flood plain. Feel free to stop in\, walk the land\, and attend the auction.\nA parcel of land with many Possibilities! \nTerms: A 10 % non-refundable down payment is due at the auction. The balance will be due in approximately 45\ndays. Possession will be given to the buyer at closing. Announcements at the auction precede previous statements and ads.\nParcel # 01-00178-001 \n R.E. Taxes: $198.85/half yr \nOwners: Ivan E. & Wilma Coblentz \nAuctioneers/Realtors Orus Mast 330-473-9077 Allen Mast 330-600-0754
URL:https://northwoodauctions.com/auctions/coblentz-real-estate-auction/
LOCATION:Coblentz  Real Estate Auction\, 4614 County Road 120\, Millersburg\, OH\, 44654\, United States
CATEGORIES:Real Estate Auction
END:VEVENT
BEGIN:VEVENT
DTSTART;TZID=UTC:20250327T180000
DTEND;TZID=UTC:20250327T190000
DTSTAMP:20260425T153213
CREATED:20250227T165555Z
LAST-MODIFIED:20250227T165604Z
UID:20183-1743098400-1743102000@northwoodauctions.com
SUMMARY:Yoder Land Auction.
DESCRIPTION:andrew_yoder_brochure \n                                                                            Yoder Land Auction\n                                                           Thursday\, March 27\, 2025 • 6:00 pm \n                         Location: The land is beside 30460 T. R. 209 Coshocton\, Ohio 43812\n         Directions: From New Bedford take C.R. 12 to T. R. 212 to the right to T. R. 209 left to the auction.\n18.47 Acres • Open & Wooded Land – Nice Country Building Parcel – 1 Parcel • Beautiful Hilltop Views – Millcreek Township • Coshocton County\n                  Here’s your Opportunity to Purchase some Beautiful Rural Land in a Nice Area!!\nThe land is rolling and includes approximately 8 acres open land & 10 acres of woods. The property features a new seeding in the field\, an elevated hunting blind\, a food plot with Giant Miscanthus grass\, a good place to hunt or simply enjoy the outdoors\, and a beautiful building site. with gorgeous hilltop views. Feel free to stop in and walk the land at your convenience.\nThis is a nice parcel of land only a short drive from New Bedford\, Millersburg\, and Coshocton!!\nTerms: A 10 % non-refundable down payment is due at the auction. The access to the property is via a private road. The balance will be due at closing in approximately 45 days. Announcements at the auction precede previous statements and ads. \nParcel #023-00000079-06 \nR.E. Taxes: $95.05/half yr (CAUV) \nOwners: Andrew\, Barbara\, and Merlin Yoder \nAuctioneers/Realtors Orus Mast 330-473-9077 Allen Mast 330-600-0754 \n 
URL:https://northwoodauctions.com/auctions/yoder-land-auction-6/
LOCATION:Yoder Land Auction\, 27629 State Route 643\, Coshocton\, OH\, 43812\, United States
CATEGORIES:Real Estate Auction
END:VEVENT
END:VCALENDAR