BEGIN:VCALENDAR
VERSION:2.0
PRODID:-//Northwood Auctions - ECPv6.6.4.2//NONSGML v1.0//EN
CALSCALE:GREGORIAN
METHOD:PUBLISH
X-WR-CALNAME:Northwood Auctions
X-ORIGINAL-URL:https://northwoodauctions.com
X-WR-CALDESC:Events for Northwood Auctions
REFRESH-INTERVAL;VALUE=DURATION:PT1H
X-Robots-Tag:noindex
X-PUBLISHED-TTL:PT1H
BEGIN:VTIMEZONE
TZID:UTC
BEGIN:STANDARD
TZOFFSETFROM:+0000
TZOFFSETTO:+0000
TZNAME:UTC
DTSTART:20250101T000000
END:STANDARD
END:VTIMEZONE
BEGIN:VEVENT
DTSTART;TZID=UTC:20250920T120000
DTEND;TZID=UTC:20250920T163000
DTSTAMP:20260419T143158
CREATED:20250814T191347Z
LAST-MODIFIED:20250814T191347Z
UID:21494-1758369600-1758385800@northwoodauctions.com
SUMMARY:Winesburg Fall Gathering  31ST ANNIVERSARY BENEFIT & FUNDRAISER.
DESCRIPTION:Winesburg 2025_fall_gathering_bb_half_page \nWinesburg Fall Gathering 31ST ANNIVERSARY BENEFIT & FUNDRAISER\n                                  Saturday\, September 20\, 2025 • 12 Noon\n                  Location: The auction will be held in a large tent at the Winesburg Park\n                           Purchase Raffle Tickets at:visitwinesburgohio.com\nEarly Donations and Highlights include .. a 40’x 60′ shop building built on the buyer’s level lot. (New for 2025) The 40’ x 60’ building will be raff led off right after the auction. The winner of the building can choose to have the building or\n$30\,000 cash. For information about the building contact Eddie Yoder 330 – 844- 8704. To buy tickets to enter this drawing\, contact Allen Wengerd 330-988-2250. New Hopeview top buggy\, Bio buggy harness\, 2 standardbred horses\, a 5 piece bedroom set made to order from Dutch Craft Furniture\, new Woods brush hog\, softballs to form 2 teams\, the\ngame will be played after the auction at the Winesburg Park\, matching sofa and loveseat\, a nice selection of locally made furniture\, gift cards\, tools\, and misc. Note: A raff le drawing will be held on Saturday evening.\nFood Trucks & Entertainment Friday evening and Saturday!\nAll items are donated! The proceeds from this auction will again be given to widows\, widowers\, and people in need. Your support is greatly appreciated!\nCash donations are accepted. Make checks payable to WBA and mail to: 8080 T. R. 669 Dundee\, Ohio 44624.\nTerms: Cash or check\nFor more information contact:\nMichael Yoder 330-473-0512\nKenny Kline 330-473-7598\nLonnie Schlabach 330-600-8129\nAuctioneers: Orus Mast 330-473-9077 Allen Mast 330-600-0754
URL:https://northwoodauctions.com/auctions/winesburg-fall-gathering-31st-anniversary-benefit-fundraiser/
LOCATION:Winesburg Fall Gathering  31ST ANNIVERSARY BENEFIT & FUNDRAISER
CATEGORIES:Auction
END:VEVENT
END:VCALENDAR