BEGIN:VCALENDAR
VERSION:2.0
PRODID:-//Northwood Auctions - ECPv6.6.4.2//NONSGML v1.0//EN
CALSCALE:GREGORIAN
METHOD:PUBLISH
X-ORIGINAL-URL:https://northwoodauctions.com
X-WR-CALDESC:Events for Northwood Auctions
REFRESH-INTERVAL;VALUE=DURATION:PT1H
X-Robots-Tag:noindex
X-PUBLISHED-TTL:PT1H
BEGIN:VTIMEZONE
TZID:UTC
BEGIN:STANDARD
TZOFFSETFROM:+0000
TZOFFSETTO:+0000
TZNAME:UTC
DTSTART:20240101T000000
END:STANDARD
END:VTIMEZONE
BEGIN:VEVENT
DTSTART;TZID=UTC:20241102T093000
DTEND;TZID=UTC:20241102T140000
DTSTAMP:20260425T171719
CREATED:20241016T143139Z
LAST-MODIFIED:20241016T143139Z
UID:19461-1730539800-1730556000@northwoodauctions.com
SUMMARY:Bowman Farm Auction
DESCRIPTION:melvin_bowman_full_page_bb \n                                                              Bowman Farm Auction\n                                                     Saturday\, November 2\, 2024 · 9:30 am\n                                Location: 5102 Township Road 618 Millersburg\, Ohio 44654.\nFrom the west edge of Mt. Hope on 241 take T. R. 362 south to T. R. 618 to the right to the first farm.\n5 Percheron Horses • Skid Loader Farm Machinery • Dion Threshing Machine Butchering Tools\nPercheron Horses. 11 year old mare\, 11 & 13 year old geldings\, (2) 18 year old geldings. The horses are all broke to work.\nSkid Loader & Farm Machinery: New Holland LS160 skid loader with a bucket\, manure forks\, bale spear\, and pallet forks sell separately\, Dion 22”x38” threshing machine with a grain thrower\, Pioneer power cart with a 45 hp Kubota diesel (1340) hours\, New Idea #5209 discbine\, Sitrex 4 star ST-520 ted der\, N. H. #256 rake\, side delivery rake\, Pioneer fore cart\, N. H. #275 baler with super sweep\, New Holland B37P hay wrapper\, Ultra 5 wrap\, Pioneer ladder wagon\, ladder wagon\, 2 gravity wagons 1 Pioneer\, Mcd. # 9 reg. gear mower\, Cardinal 30’ hay & grain elevator\, J.D. Vanbrunt grain drill\, Oliver 2 x14” plow\, Oliver 2 x 12” plow\, Oliver #405 walking plow\, cultipacker\, J.D. spring tooth harrow\, 3 section spike tooth harrow\, disk\, New Idea #323 corn picker\, Boontown field sprayer w/Honda motor\, Pequea 85G manure spreader\, New Holland #353 grinder mixer\, potato plow\, 1-horse cultivator.\nFarm Related Items: Honda generator / welder\, 10 foot livestock trailer\, Shaver 10” post driver\,2 Steinway bale feeders\, 3 sets work harnesses\, collars\, pads\, neck yokes\, eveners\, double vats\, vacuum pump\, 6“x 19’ double belt\, chicken nest\, 5 chicken coops\, lawn roller\, Little Wonder 11hp blower\, wooden ext. ladder\,\nwagon load of misc.\nButchering Tools: Nice large cast iron kettle with a jacket\, sausage stuffer\, and gallows.\nHousehold Items: Natural gas heating stove\, Warm Morning Heating stove\, used Yoder windows\, metal sink\, wardrobe\, shelf\, night stand\, battery floor lamp\, back stretcher\, dresser\, half bed\, bed\, port-a-crib\, gun rack\, tree stands\, fish cleaning table\, oil lamps\,\nshower stall\, 3 burner gas hot plate\, and more misc.\nTerms: Cash or good check.\nLunch Stand by Spring Meadow School\nOwners: Melvin S. & Annie Bowman\nAuctioneers Orus Mast 330-473-9077 Allen Mast 330-600-0754 · Arlie Yoder 330-275-2242
URL:https://northwoodauctions.com/auctions/bowman-farm-auction/
LOCATION:Bowman Farm Auction\, 5102 T.R 618\, Millersburg\, OH\, 44654\, United States
CATEGORIES:Auction
END:VEVENT
BEGIN:VEVENT
DTSTART;TZID=UTC:20241115T113000
DTEND;TZID=UTC:20241115T170000
DTSTAMP:20260425T171719
CREATED:20241016T150000Z
LAST-MODIFIED:20241016T150000Z
UID:19492-1731670200-1731690000@northwoodauctions.com
SUMMARY:THE LEATHERSTOCKING CATTLE EXCHANGE
DESCRIPTION:leatherstocking \n                                     THE LEATHERSTOCKING CATTLE EXCHANGE\npresents its inaugural public auction on dedicated to the nurturing and advancement of grass-based dairy cow genetics \nFriday\, November 15th\, 2024 held on the farm at 4225 East Milestrip Rd. Canastota\, NY 13032\nOpening seminar by Ron Holter starts at 9:30am – Sale of animals begins at 11:30am\nAll females are certified organic/®plus trust\nMost animals tested for A2/A2 status\nMost breeds represented\nBulk of sale are milking cows and bred heifers\nBreeding age dairy bulls consigned by the foremost breeders in the grass-fed dairy sector\nMost bulls aAa analyzed\nOver 60 head already consigned\nStill accepting qualified consignments \nFood available onsite\nContact Auction Manager Alex Weaver + 1 (315) 875-3178\nAuctioneers . Orus Mast 330 473-9077 – Keith Beachy 330- 401-6537.
URL:https://northwoodauctions.com/auctions/the-leatherstocking-cattle-exchange/
LOCATION:THE LEATHERSTOCKING CATTLE EXCHANGE\, 4225 East Milestrip Rd.\, Canastota\, NY\, 13032\, United States
CATEGORIES:Auction
END:VEVENT
BEGIN:VEVENT
DTSTART;TZID=UTC:20241130T093000
DTEND;TZID=UTC:20241130T143000
DTSTAMP:20260425T171719
CREATED:20241111T162002Z
LAST-MODIFIED:20241111T163814Z
UID:19757-1732959000-1732977000@northwoodauctions.com
SUMMARY:Miller Farm Auction.
DESCRIPTION:vernon_miller_bh_3066 \n                                                                 Miller Farm Auction.\n                                                      Saturday\, November 30\, 2024 \n              2 Registered Belgian Horses · Farm Machinery – Farm Related Items · Tools · Household\n                            Location: 6900 South Apple Creek Rd.\, Fredericksburg\, Ohio 44627 \nFrom Fredericksburg\, Ohio take Harrison Road east 1.5 miles to S. Apple Creek Road north 1.8 miles to the farm. \n                    From Apple Creek take Apple Creek Road south 2.5 miles to the farm. \n \nBelgian Horses: 2 year old registered Belgian mare sired by Kidron Road Firestone\, 7 year old registered Belgian mare\nsired by Jesse James Victory\, in foal to Cov-Ed for February 19\, 2025.\nThe 2 year old was hitched a few times \, the 7 year old is well broke .\nFarm Machinery: New Holland 352 grinder mixer\, New Holland #472 7’ haybine\, New Holland #467 7 ‘ haybine\, 2 N. H. #256 hay rakes\, N. H. #402 hay crimper\, N. H. #456 pto hay mower\, N. H. #65 baler\, Gateway 28h.p. Power unit\, power unit with a 4 cyl. Wisconsin motor\, 2 ladder wagons\, Pioneer trip bottom plow like new\, 2x 12” Oliver plow\, 2x 14” Oliver plow\, 12’ weeder like new\, 6’ disk\, spring & spike tooth harrows\, single cultipacker\, John Deere Vanbrunt drill\, Int. 4 row corn planter\, cone fertilizer spreader on mower gear\, I & J 2 row cultivator\, McD. Cultivator\, New Idea #323 corn picker\, McD. corn binder with a bundle carrier\, 2 grain elevators\, skeleton elevater\, 3 gravity wagons\, Mcd # 7 silo filler\, N. H. #60 silage blower\, 2 Pioneer fore carts with brakes\, N.I. # 17 manure spreader\, N. I. #206 manure spreader\, Yoder field sprayer as-is\, Grove wagon gear\, McD. #7 hay mower\, field drag\, \nFarm Related Items: 4 double sets bio draft harnesses\, bio buggy harness\, 2\,3\,4\,5\,&6 horse eveners\, collars\, 2 wheel single axle livestock trailer\, 2 500 gallon air tanks\, pond aerator windmill\, Quincy belt driven air compressor\, Honda GX690 nat. gas motor\, 275 gallon fuel tank with a pump\,Pto pressure washer\, shoeing stocks\, 4 Osborne self feeders\, Rigid pipe bender\, cement mixer\, chain hoist\, electic Grund Fos pump\, 2 potato plows\, T- posts and more fence suppplies\, Niagara heating stove\, rabbit hutches\, junk pile \, wagon load of misc.\nMower & Household Items: Toro 52” walk behind mower\, bedroom set\, gas grill\, washline posts\, 4 36” new entry doors\, ping pong table\, Maytag washing machine\, and more misc.\nConsignments: Massey Ferguson 135 tractor\, brush hog.\nTerms: Cash or good check. \nLunch Stand  \nOwners: Vernon R. & Ada Mae Miller \nAuctioneers/Realtors Orus Mast 330-473-9077 Joe Miller
URL:https://northwoodauctions.com/auctions/miller-farm-auction-9/
LOCATION:Miller Farm Auction.\, 6900 South Apple Creek Rd\, Fredericksburg\, Ohio\, 44627
CATEGORIES:Auction
END:VEVENT
END:VCALENDAR