BEGIN:VCALENDAR
VERSION:2.0
PRODID:-//Northwood Auctions - ECPv6.6.4.2//NONSGML v1.0//EN
CALSCALE:GREGORIAN
METHOD:PUBLISH
X-WR-CALNAME:Northwood Auctions
X-ORIGINAL-URL:https://northwoodauctions.com
X-WR-CALDESC:Events for Northwood Auctions
REFRESH-INTERVAL;VALUE=DURATION:PT1H
X-Robots-Tag:noindex
X-PUBLISHED-TTL:PT1H
BEGIN:VTIMEZONE
TZID:UTC
BEGIN:STANDARD
TZOFFSETFROM:+0000
TZOFFSETTO:+0000
TZNAME:UTC
DTSTART:20240101T000000
END:STANDARD
END:VTIMEZONE
BEGIN:VEVENT
DTSTART;TZID=UTC:20241019T090000
DTEND;TZID=UTC:20241019T150000
DTSTAMP:20260424T115809
CREATED:20241001T180739Z
LAST-MODIFIED:20241001T181239Z
UID:19319-1729328400-1729350000@northwoodauctions.com
SUMMARY:Phillips Chattel Auction.
DESCRIPTION:jeffrey_phillips_bb \n \n                                                                   Phillips Chattel Auction\n                                                           Saturday\, October 19\, 2024 • 9:00 am\n                                              Location: 40319 County Road 19 Killbuck\, Ohio 44637 \nFrom Killbuck\, Ohio take State Route 60 south 4 miles to C.R. 19 west 2 miles to the auction. \nTractors & Farm Related Items: John Deere 5300 4×4 tractor with a front end loader and 2010 hours\, several bale spears and buckets for\nthe J.D. 5300\, John Deere 755 Tractor with 1280 hours and a mower\, John Deere #425 garden tractor\, John Deere #550 3 pt. tiller like new\,\nJohn Deere MX7 brush hog like new\, John Deere grass catcher\, John Deere dump trailer like new\, International utility trailer\, 8’ x10’ single axle trailer\, N. I. 2 wheel manure spreader\, Big Valley cattle chute in good cond.\, 4 round bale feeders\, farm gates\, fuel tanks on a stand.\nShop & Lawn & Garden Items: Husqvarna items including chain saws\, gas hedge trimmer\, leaf blower\, Forester weed eater cutter\, Stihl & Echo weedeaters\, Lawn Boy mower\, 16 drawer Craftsman tool chest\, 2700 PSI pressure washer\, shop vac\, a good selection of hand tools\, lots of fishing supplies\, space heater\, Radio Flyer wagon\, tri- cycle\, fiberglass step ladders\, pet taxis\, Technics speakers\, camping supplies\, new Flexible Flyer sled\, 12 volt sprayer\, bench grinder\, and much more.\nLongaberger Baskets: 100 + Longaberger baskets\, many di erent kinds and sizes including a nice bassinet.\nHousehold & Collectibles: Dining room set including a table w/ 6 chairs\, a corner hutch\, and a matching dresser\, Dutch Maid cheese\nbox\, dressers\, several chests of drawers\, gun cases\, Little Tykes toys\, Tonka toys\, patio set\, hickory rockers\, crocks\, Avon bottles\, cookware\,\nhundreds of books\, craft supplies\, Fredericksburg cookie jar\, air fryers\, new kerosene heaters\, and much more.\nNote: There will be a large volume and variety of items sold that are not listed! Bring a truck and a friend and and see what all shows up\ntill auction time!! Tractors will sell around noon. \nTERMS: Cash\, good check\, or credit card on auction day \nLunch Stand by Byler’s BBQ \nAuctioneers/ Realtors Orus Mast 330-473-9077  Allen Mast 330-600-0754  Joe Miller.
URL:https://northwoodauctions.com/auctions/phillips-chattel-auction/
LOCATION:Phillips Chattel Auction\, 40319 County Road 19\, Killbuck\,\, OH\, 44637\, United States
CATEGORIES:Chattel Auctions
END:VEVENT
END:VCALENDAR