BEGIN:VCALENDAR
VERSION:2.0
PRODID:-//Northwood Auctions - ECPv6.6.4.2//NONSGML v1.0//EN
CALSCALE:GREGORIAN
METHOD:PUBLISH
X-WR-CALNAME:Northwood Auctions
X-ORIGINAL-URL:https://northwoodauctions.com
X-WR-CALDESC:Events for Northwood Auctions
REFRESH-INTERVAL;VALUE=DURATION:PT1H
X-Robots-Tag:noindex
X-PUBLISHED-TTL:PT1H
BEGIN:VTIMEZONE
TZID:UTC
BEGIN:STANDARD
TZOFFSETFROM:+0000
TZOFFSETTO:+0000
TZNAME:UTC
DTSTART:20240101T000000
END:STANDARD
END:VTIMEZONE
BEGIN:VEVENT
DTSTART;TZID=UTC:20240925T163000
DTEND;TZID=UTC:20240925T183000
DTSTAMP:20260424T133606
CREATED:20240821T193035Z
LAST-MODIFIED:20240821T193506Z
UID:19132-1727281800-1727289000@northwoodauctions.com
SUMMARY:Beechy Real Estate  & Chattel Auction.
DESCRIPTION:allen_beechy_brochure \n  \n                                                                       Beechy Real Estate & Chattel Auction\n                                                                          Wednesday\, September 25\, 2024\n                                                                Chattels at 4:30 pm\, Real Estate at 6:00 pm\n                                                      Open House: Tuesday\, September 17 · 5:00 – 7:00 pm\n                                                 Location: 3685 County Road 135 Millersburg\, Ohio 44654\n4 Bedroom Home • 2 Story Bank Barn • 1 Parcel 3.34 Acres • Fenced Pasture • Nice Area • Contents Walnut Creek Twp • Holmes County • E. Holmes Schools\nThis all-Brick Home was Built in 1981.\nFeatures include a full walkout basement with a nice set of kitchen cabinets\, a sitting room\, a bathroom\, a canned food room\, and some storage area. The main floor includes a nice kitchen with a lot of walnut cabinets\, a dutch pantry\, an island\,\nand a built in desk\, a living room\, 4 bedrooms\, a full bathroom\, and some hardwood floors.\nThe Bank Barn has room for your animals on the first floor\, a water hydrant\, a newer garage door\, & a storage area plus a lot of storage space or shop area on the second floor.\nA 10’ x 12’ storage barn sells with the property.\nThe home has large shade trees\, a septic system\, a water well and a spring\, a solar system\, a natural gas hot water heating system\, and gas lights.\nA Great Opportunity To Own A Country Property near Berlin and Walnut Creek!\nReal Estate Terms: A 10% nonrefundable down payment is due at the auction.\nThe balance will be due at closing in approximately 45 days. The property sells as is and subject to all articles of record. Announcements at the auction precede previous statements and ads.\nReal Estate Taxes: $1\,364.52/half year\nHousehold & Collectibles: Blue reclining couch\, 2 glider rockers\, recliner\, extension table\, oval table with 4 chairs\, natural gas cook stove\, 8’ Lifetime table\, porch glider\, Old German Bible\, lots of books\, pen collection\, gas floor lamp\, card table\, granite coffee pot\, crocks\, ice cream freezer\, 3 watch fobs\, pocket watches\, SS roaster\, Coleman gas iron\, cast iron skillet\, 2 wooden benches\, silverware\, pressure cooker\, double tubs\, canning jars\, clothes dryer\, and a lot of misc. household items.\nShop\, Lawn & Garden items: 4’ x 7’ trailer\, new gas grill\, Poulan Pro 5hp. Tiller\, Toro sf lawn mower\, 16’ alum. ext. ladder\, garden trailer\, Honda 2.5 hp motor\, chain saw\, weed eater\, 7 man tent\, several saws\, fishing supplies\, air hose\, fire pit\, 375 & 410 watt inverters\, 2 battery chargers\, handyman jack\, buggy jack\, shovels forks\, volleyball set\, old wooden box\, and more.\nGuns: Mossberg 12 ga. Camo shot gun with a Bushnell scope\, Ruger M.K. 22 cal. pistol N.R.A.\n12069\, 22 rifle\, 2 gun cases\, 12 ga. Slugs.\, camo hunting blind.\nChattel Terms: Cash or good check. \nFood Stand: by Byler’s BBQ \nAuctioneers/ Realtors Orus Mast 330-473-9077 Allen Mast 330-600-0754
URL:https://northwoodauctions.com/auctions/beechy-real-estate-chattel-auction/
LOCATION:Beechy Real Estate & Chattel Auction\, 3685 County Road 135\, Millersburg\, OH\, 44654\, United States
CATEGORIES:Real Estate and Chattel Auctions
END:VEVENT
END:VCALENDAR